{"text_format":"1","workbook":"xlsx","n_sheets":5,"sheets":["Carbon_Steel","Dialog1","Cal_Carbon_Steel","เกี่ยวกับโปรแกรม","คำแนะนำ"],"not_rendered":{"charts":0,"images":9,"macros":1,"external_links":0,"defined_names":5,"comments":0,"pivot_tables":0},"unopened":[{"sheet":"Dialog1","index":1,"reason":"not_a_worksheet"}],"bounds":{"document_bytes":16777216,"sheet_cells":100000,"rows_first":2000,"rows_last":500,"rows_between":2000,"halvings":0,"cell_chars":16384,"cell_head_chars":4096},"cells_cut":0,"cells_raw":0,"read":"whole","date_system":"1900"}

{"sheet":"Carbon_Steel","index":0,"n_rows":38,"n_cols":22,"rows_kept":38,"cut":false,"hidden":false,"merged":[[0,5,0,12],[1,5,1,12],[9,6,11,6],[9,12,10,12]]}
[null,null,null,null,null,"เหล็กกล้าคาร์บอนสำหรับงานโครงสร้างทั่วไป(ท่อเหล็กดำ)"]
[null,null,null,null,null,"CARBON STEEL TUBES FOR GENERAL STRUCTURAL PURPOSES"]
[]
[]
[]
[]
[]
[]
[null,null,null,null,null,null,null,null,null,null,null,null,"อ้างอิง มอก. 107 - 2533,JIS G3444 - 2006"]
[null,null,null,null,"เลือก",null,"เส้นผ่านศูนย์กลางภายนอก(mm.)","ความหนา","พื้นที่","มวล","โมเมนต์","มอดูลัส","รัศมีไจเรชัน"]
[null,null,null,null,"ขนาด","ชื่อขนาด",null,"ผนังท่อ (t)","หน้าตัด","ต่อเมตร","ความเฉื่อย","ภาคตัด"]
[null,null,null,null,"เหล็ก",null,null,"mm.","cm2",null,"cm4","cm3","cm"]
[null,null,null,null,null,null,"D","t","A","kg/m","I","Z","r"]
[null,null,null,null,{"$f":"V14","v":0},"1/2\"(15)",21.7,2,1.238,0.97199999999999998,0.60699999999999998,0.56000000000000005,0.7,null,null,null,null,null,false,{"$f":"IF(S14=TRUE,1,0)","v":0},{"$f":"SUM(T$13:T14)","v":0},{"$f":"IF(S14=TRUE,U14,0)","v":0}]
[null,null,null,null,{"$f":"V15","v":0},"3/4\"(20)",27.2,2.2999999999999998,1.7989999999999999,1.41,1.41,1.03,0.88,null,null,null,null,null,false,{"$f":"IF(S15=TRUE,1,0)","v":0},{"$f":"SUM(T$13:T15)","v":0},{"$f":"IF(S15=TRUE,U15,0)","v":0}]
[null,null,null,null,{"$f":"V16","v":0},"1\"(25)",34,2.2999999999999998,2.2909999999999999,1.8,2.89,1.7,1.1200000000000001,null,null,null,null,null,false,{"$f":"IF(S16=TRUE,1,0)","v":0},{"$f":"SUM(T$13:T16)","v":0},{"$f":"IF(S16=TRUE,U16,0)","v":0}]
[null,null,null,null,0,"1 1/4\"(32)",42.7,2.2999999999999998,2.919,2.29,5.97,2.8,1.43,null,null,null,null,null,false,{"$f":"IF(S17=TRUE,1,0)","v":0},{"$f":"SUM(T$13:T17)","v":0},{"$f":"IF(S17=TRUE,U17,0)","v":0}]
[null,null,null,null,0,"1 1/2\"(40)",48.6,2.2999999999999998,3.3450000000000002,2.63,8.99,3.7,1.64,null,null,null,null,null,false,0,{"$f":"SUM(T$13:T18)","v":0},0]
[null,null,null,null,0,"1 1/2\"(40)",48.6,3.2,4.5640000000000001,3.58,11.8,4.8600000000000003,1.61,null,null,null,null,null,false,0,{"$f":"SUM(T$13:T19)","v":0},0]
[null,null,null,null,0,"2\"(50)",60.5,3.2,5.76,4.5199999999999996,23.7,7.84,2.0299999999999998,null,null,null,null,null,false,0,{"$f":"SUM(T$13:T20)","v":0},0]
[null,null,null,null,{"$f":"V21","v":0},"2\"(50)",60.5,4,7.1,5.57,28.5,9.41,2,null,null,null,null,null,false,0,{"$f":"SUM(T$13:T21)","v":0},0]
[null,null,null,null,1,"2 1/2\"(65)",76.3,3.2,7.3490000000000002,5.77,49.2,12.9,2.59,null,null,null,null,null,true,1,{"$f":"SUM(T$13:T22)","v":1},1]
[null,null,null,null,0,"2 1/2\"(65)",76.3,4,9.0850000000000009,7.13,59.5,15.6,2.56,null,null,null,null,null,false,0,{"$f":"SUM(T$13:T23)","v":1},0]
[null,null,null,null,0,"3\"(80)",89.1,3.2,8.6359999999999992,6.78,79.8,17.899999999999999,3.04,null,null,null,null,null,false,0,{"$f":"SUM(T$13:T24)","v":1},0]
[null,null,null,null,0,"3\"(80)",89.1,4,10.69,8.39,97,21.8,3.01,null,null,null,null,null,false,0,{"$f":"SUM(T$13:T25)","v":1},0]
[null,null,null,null,0,"3  1/2\"(90)",101.6,3.2,9.8919999999999995,7.76,120,23.6,3.48,null,null,null,null,null,false,0,{"$f":"SUM(T$13:T26)","v":1},0]
[null,null,null,null,0,"3  1/2\"(90)",101.6,4,12.26,9.6300000000000008,146,28.8,3.45,null,null,null,null,null,false,0,{"$f":"SUM(T$13:T27)","v":1},0]
[null,null,null,null,0,"4\"(100)",114.3,3.2,11.17,8.77,172,30.2,3.93,null,null,null,null,null,false,0,{"$f":"SUM(T$13:T28)","v":1},0]
[null,null,null,null,0,"4\"(100)",114.3,4.5,15.52,12.2,234,41,3.89,null,null,null,null,null,false,0,{"$f":"SUM(T$13:T29)","v":1},0]
[null,null,null,null,0,"4\"(100)",114.3,5.6,19.12,15,283,49.6,3.85,null,null,null,null,null,false,0,{"$f":"SUM(T$13:T30)","v":1},0]
[null,null,null,null,2,"5\"(125)",139.80000000000001,4.5,19.13,15,438,62.7,4.79,null,null,null,null,null,true,1,{"$f":"SUM(T$13:T31)","v":2},2]
[null,null,null,null,0,"5\"(125)",139.80000000000001,6,25.22,19.8,566,80.900000000000006,4.74,null,null,null,null,null,false,0,{"$f":"SUM(T$13:T32)","v":2},0]
[null,null,null,null,0,"6\"(150)",165.2,4.5,22.72,17.8,734,88.9,5.68,null,null,null,null,null,false,0,{"$f":"SUM(T$13:T33)","v":2},0]
[null,null,null,null,0,"6\"(150)",165.2,6,30.01,23.6,952,115,5.63,null,null,null,null,null,false,0,{"$f":"SUM(T$13:T34)","v":2},0]
[null,null,null,null,0,"7\"(175)",190.7,5,29.17,22.9,1260,132,6.57,null,null,null,null,null,false,0,{"$f":"SUM(T$13:T35)","v":2},0]
[null,null,null,null,0,"7\"(175)",190.7,7,40.4,31.7,1710,179,6.5,null,null,null,null,null,false,0,{"$f":"SUM(T$13:T36)","v":2},0]
[null,null,null,null,0,"8\"(200)",216.3,6,39.61,31.1,2190,203,7.44,null,null,null,null,null,false,0,{"$f":"SUM(T$13:T37)","v":2},0]
[null,null,null,null,0,"8\"(200)",216.3,8,52.35,41.1,2840,263,7.37,null,null,null,null,null,false,0,{"$f":"SUM(T$13:T38)","v":2},0]

{"sheet":"Cal_Carbon_Steel","index":2,"n_rows":44,"n_cols":12,"rows_kept":44,"cut":false,"hidden":false,"merged":[[23,8,23,9],[0,1,0,10],[1,1,1,10],[2,1,2,10],[24,8,24,9],[10,8,10,9],[22,8,22,9],[21,8,21,9],[19,8,19,9],[15,8,15,9],[14,8,14,9],[13,8,13,9],[11,8,11,9],[12,8,12,9],[20,8,20,9],[10,3,11,3],[36,8,36,9],[37,8,37,9],[35,8,35,9],[34,8,34,9],[16,8,16,9],[18,8,18,9],[17,8,17,9],[31,8,31,9],[30,8,30,9],[33,8,33,9],[32,8,32,9],[29,8,29,9],[28,8,28,9],[27,8,27,9],[26,8,26,9],[25,8,25,9]]}
[null,"รายการคำนวณหาน้ำหนักและพื้นที่ทาสี"]
[null,{"$f":"Carbon_Steel!F1","v":"เหล็กกล้าคาร์บอนสำหรับงานโครงสร้างทั่วไป(ท่อเหล็กดำ)"}]
[null,{"$f":"Carbon_Steel!F2","v":"CARBON STEEL TUBES FOR GENERAL STRUCTURAL PURPOSES"}]
[]
[]
[]
[]
[]
[]
[]
[null,null,null,"เส้นผ่านศูนย์กลางภายนอก(Do)","ความหนา","(1)","(2)","น้ำหนักรวม","(3)",null,"พื้นที่ทาสี"]
[null,"ลำดับ",{"$f":"Carbon_Steel!$F$11","v":"ชื่อขนาด"},null,"ผนังท่อ","ความยาว","มวลต่อเมตร","(kg)","พื้นที่ผิว (As)",null,"(m2)"]
[null,null,null,"mm.","(t)","เหล็ก(m.)","(kg/m.)","(1) x (2)","(m2/m.)",null,"(1) x (3)"]
[null,{"$f":"Carbon_Steel!E14","v":0},{"$f":"Carbon_Steel!F14","v":"1/2\"(15)"},{"$f":"Carbon_Steel!G14","v":21.7},{"$f":"Carbon_Steel!H14","v":2},0,{"$f":"Carbon_Steel!J14","v":0.97199999999999998},{"$f":"TRUNC(F14*G14,3)","v":0},{"$f":"ROUND((PI()*D14)/1000,3)","v":6.8000000000000005E-2},null,{"$f":"TRUNC(F14*I14,3)","v":0}]
[null,{"$f":"Carbon_Steel!E15","v":0},{"$f":"Carbon_Steel!F15","v":"3/4\"(20)"},{"$f":"Carbon_Steel!G15","v":27.2},{"$f":"Carbon_Steel!H15","v":2.2999999999999998},0,{"$f":"Carbon_Steel!J15","v":1.41},0,{"$f":"ROUND((PI()*D15)/1000,3)","v":8.5000000000000006E-2},null,0]
[null,{"$f":"Carbon_Steel!E16","v":0},{"$f":"Carbon_Steel!F16","v":"1\"(25)"},{"$f":"Carbon_Steel!G16","v":34},{"$f":"Carbon_Steel!H16","v":2.2999999999999998},0,{"$f":"Carbon_Steel!J16","v":1.8},0,0.107,null,0]
[null,{"$f":"Carbon_Steel!E17","v":0},{"$f":"Carbon_Steel!F17","v":"1 1/4\"(32)"},{"$f":"Carbon_Steel!G17","v":42.7},{"$f":"Carbon_Steel!H17","v":2.2999999999999998},0,{"$f":"Carbon_Steel!J17","v":2.29},0,0.13400000000000001,null,0]
[null,{"$f":"Carbon_Steel!E18","v":0},{"$f":"Carbon_Steel!F18","v":"1 1/2\"(40)"},{"$f":"Carbon_Steel!G18","v":48.6},{"$f":"Carbon_Steel!H18","v":2.2999999999999998},0,{"$f":"Carbon_Steel!J18","v":2.63},0,0.153,null,0]
[null,{"$f":"Carbon_Steel!E19","v":0},{"$f":"Carbon_Steel!F19","v":"1 1/2\"(40)"},{"$f":"Carbon_Steel!G19","v":48.6},{"$f":"Carbon_Steel!H19","v":3.2},0,{"$f":"Carbon_Steel!J19","v":3.58},0,0.153,null,0]
[null,{"$f":"Carbon_Steel!E20","v":0},{"$f":"Carbon_Steel!F20","v":"2\"(50)"},{"$f":"Carbon_Steel!G20","v":60.5},{"$f":"Carbon_Steel!H20","v":3.2},0,{"$f":"Carbon_Steel!J20","v":4.5199999999999996},0,0.19,null,0]
[null,{"$f":"Carbon_Steel!E21","v":0},{"$f":"Carbon_Steel!F21","v":"2\"(50)"},{"$f":"Carbon_Steel!G21","v":60.5},{"$f":"Carbon_Steel!H21","v":4},0,{"$f":"Carbon_Steel!J21","v":5.57},0,0.19,null,0]
[null,{"$f":"Carbon_Steel!E22","v":1},{"$f":"Carbon_Steel!F22","v":"2 1/2\"(65)"},{"$f":"Carbon_Steel!G22","v":76.3},{"$f":"Carbon_Steel!H22","v":3.2},0,{"$f":"Carbon_Steel!J22","v":5.77},0,0.24,null,0]
[null,{"$f":"Carbon_Steel!E23","v":0},{"$f":"Carbon_Steel!F23","v":"2 1/2\"(65)"},{"$f":"Carbon_Steel!G23","v":76.3},{"$f":"Carbon_Steel!H23","v":4},0,{"$f":"Carbon_Steel!J23","v":7.13},0,0.24,null,0]
[null,{"$f":"Carbon_Steel!E24","v":0},{"$f":"Carbon_Steel!F24","v":"3\"(80)"},{"$f":"Carbon_Steel!G24","v":89.1},{"$f":"Carbon_Steel!H24","v":3.2},0,{"$f":"Carbon_Steel!J24","v":6.78},0,0.28000000000000003,null,0]
[null,{"$f":"Carbon_Steel!E25","v":0},{"$f":"Carbon_Steel!F25","v":"3\"(80)"},{"$f":"Carbon_Steel!G25","v":89.1},{"$f":"Carbon_Steel!H25","v":4},0,{"$f":"Carbon_Steel!J25","v":8.39},0,0.28000000000000003,null,0]
[null,{"$f":"Carbon_Steel!E26","v":0},{"$f":"Carbon_Steel!F26","v":"3  1/2\"(90)"},{"$f":"Carbon_Steel!G26","v":101.6},{"$f":"Carbon_Steel!H26","v":3.2},0,{"$f":"Carbon_Steel!J26","v":7.76},0,0.31900000000000001,null,0]
[null,{"$f":"Carbon_Steel!E27","v":0},{"$f":"Carbon_Steel!F27","v":"3  1/2\"(90)"},{"$f":"Carbon_Steel!G27","v":101.6},{"$f":"Carbon_Steel!H27","v":4},0,{"$f":"Carbon_Steel!J27","v":9.6300000000000008},0,0.31900000000000001,null,0]
[null,{"$f":"Carbon_Steel!E28","v":0},{"$f":"Carbon_Steel!F28","v":"4\"(100)"},{"$f":"Carbon_Steel!G28","v":114.3},{"$f":"Carbon_Steel!H28","v":3.2},0,{"$f":"Carbon_Steel!J28","v":8.77},0,0.35899999999999999,null,0]
[null,{"$f":"Carbon_Steel!E29","v":0},{"$f":"Carbon_Steel!F29","v":"4\"(100)"},{"$f":"Carbon_Steel!G29","v":114.3},{"$f":"Carbon_Steel!H29","v":4.5},0,{"$f":"Carbon_Steel!J29","v":12.2},0,0.35899999999999999,null,0]
[null,{"$f":"Carbon_Steel!E30","v":0},{"$f":"Carbon_Steel!F30","v":"4\"(100)"},{"$f":"Carbon_Steel!G30","v":114.3},{"$f":"Carbon_Steel!H30","v":5.6},0,{"$f":"Carbon_Steel!J30","v":15},0,0.35899999999999999,null,0]
[null,{"$f":"Carbon_Steel!E31","v":2},{"$f":"Carbon_Steel!F31","v":"5\"(125)"},{"$f":"Carbon_Steel!G31","v":139.80000000000001},{"$f":"Carbon_Steel!H31","v":4.5},0,{"$f":"Carbon_Steel!J31","v":15},0,0.439,null,0]
[null,{"$f":"Carbon_Steel!E32","v":0},{"$f":"Carbon_Steel!F32","v":"5\"(125)"},{"$f":"Carbon_Steel!G32","v":139.80000000000001},{"$f":"Carbon_Steel!H32","v":6},0,{"$f":"Carbon_Steel!J32","v":19.8},0,0.439,null,0]
[null,{"$f":"Carbon_Steel!E33","v":0},{"$f":"Carbon_Steel!F33","v":"6\"(150)"},{"$f":"Carbon_Steel!G33","v":165.2},{"$f":"Carbon_Steel!H33","v":4.5},0,{"$f":"Carbon_Steel!J33","v":17.8},0,0.51900000000000002,null,0]
[null,{"$f":"Carbon_Steel!E34","v":0},{"$f":"Carbon_Steel!F34","v":"6\"(150)"},{"$f":"Carbon_Steel!G34","v":165.2},{"$f":"Carbon_Steel!H34","v":6},0,{"$f":"Carbon_Steel!J34","v":23.6},0,0.51900000000000002,null,0]
[null,{"$f":"Carbon_Steel!E35","v":0},{"$f":"Carbon_Steel!F35","v":"7\"(175)"},{"$f":"Carbon_Steel!G35","v":190.7},{"$f":"Carbon_Steel!H35","v":5},0,{"$f":"Carbon_Steel!J35","v":22.9},0,0.59899999999999998,null,0]
[null,{"$f":"Carbon_Steel!E36","v":0},{"$f":"Carbon_Steel!F36","v":"7\"(175)"},{"$f":"Carbon_Steel!G36","v":190.7},{"$f":"Carbon_Steel!H36","v":7},0,{"$f":"Carbon_Steel!J36","v":31.7},0,0.59899999999999998,null,0]
[null,{"$f":"Carbon_Steel!E37","v":0},{"$f":"Carbon_Steel!F37","v":"8\"(200)"},{"$f":"Carbon_Steel!G37","v":216.3},{"$f":"Carbon_Steel!H37","v":6},0,{"$f":"Carbon_Steel!J37","v":31.1},0,0.68,null,{"$f":"TRUNC(F37*I37,3)","v":0}]
[null,{"$f":"Carbon_Steel!E38","v":0},{"$f":"Carbon_Steel!F38","v":"8\"(200)"},{"$f":"Carbon_Steel!G38","v":216.3},{"$f":"Carbon_Steel!H38","v":8},0,{"$f":"Carbon_Steel!J38","v":41.1},0,0.68,null,0]
[null,null,null,null,null,null,"น้ำหนักรวม",{"$f":"TRUNC(SUM(H14:H38),2)","v":0},"kg","พื้นที่ทาสีรวม",{"$f":"TRUNC(SUM(K14:K38),2)","v":0},"m2"]
[null,null,null,null,null,null,null,{"$f":"TRUNC(H39/1000,2)","v":0},"ton"]
[null,"หมายเหตุ"]
[null,null,null,"พื้นที่ผิว(As) คำนวณจากสูตร  :    As = pD / 1,000  หรือ As = 2pr / 1,000"]
[null,null,null,"มวลต่อเมตร อ้างอิงจาก          :    มาตรฐานผลิตภัณฑ์อุตสาหกรรม เหล็กโครงสร้างรูปพรรณกลวง  มอก. 107-2533 "]
[null,null,null,null,null," และมาตรฐาน JIS G 3444 - 2006"]

{"sheet":"เกี่ยวกับโปรแกรม","index":3,"n_rows":17,"n_cols":16,"rows_kept":17,"cut":false,"hidden":false,"merged":[[2,10,2,11]]}
[]
[null,null,null,null,null,null,null,null,null,null,null,null,null,null,null,"Version 1.00  "]
[null,null,null,null,null,null,null,null,null,null,"เกี่ยวกับโปรแกรม"]
[null,null,null,null,null,null,null,"โปรแกรมนี้พัฒนาขึ้นเพื่อสนับสนุนและอำนวยความสะดวกในการคำนวณหาน้ำหนักและพื้นที่ทาสีเหล็ก"]
[null,null,null,null,null,null,null,"ท่อเหล็กดำ  โดยหน่วยน้ำหนัก(มวลต่อเมตร)ในโปรแกรมนี้อ้างอิงตามมาตรฐานผลิตภัณฑ์อุตสาหกรรม"]
[null,null,null,null,null,null,null,"มอก. 107-2533  และ JIS G3444-2006  เพื่อให้เป็นไปตามระเบียบเกี่ยวกับพัสดุของหน่วยราชการ"]
[null,null,null,null,null,null,null,"โดยระเบียบกำหนดให้วัสดุที่มีการกำหนดมาตรฐานผลิตภัณฑ์อุตสาหกรรม  หน่วยงานรัฐต้องกำหนด"]
[null,null,null,null,null,null,null,"รายละเอียด คุณลักษณะเฉพาะหรือรายการในการก่อสร้างให้เป็นไปตามมาตรฐานผลิตภัณฑ์อุตสาหกรรมด้วย"]
[null,null,null,null,null,null,null,"สำหรับโปรแกรมนี้จะคำนวณน้ำหนักเป็นหน่วยกิโลกรัม(Kg) และหน่วยน้ำหนักเป็นตัน(Ton)  เพื่อให้ง่าย"]
[null,null,null,null,null,null,null,"และตรงตามเกณฑ์การคำนวณค่าแรงงานตามหลักเกณฑ์การคำนวณราคากลางของทางราชการ สำหรับพื้นที่ผิว "]
[null,null,null,null,null,null,null,"คำนวณจากเส้นรอบรูปของพื้นที่หน้าตัดเหล็กท่อเหล็กดำและได้แปลงหน่วยให้อยู่ในรูปตารางเมตร"]
[null,null,null,"      เพื่อให้สอดคล้องและง่ายต่อการประมาณราคาค่าวัสดุและแรงงาน  งานทาสี  ของกรมบัญชีกลาง  ตามหลักเกณฑ์การคำนวณราคากลางงานก่อสร้างของ"]
[null,null,null,"      ทางราชการอีกด้วย"]
[null,null,null,"                   ผู้จัดทำเป็นเพียงผู้หนึ่งที่ทำงานในหน่วยงานภาครัฐสังกัดองค์กรปกครองส่วนท้องถิ่น  จึงอาจมุ่งเน้นการใช้งานสำหรับหน่วยงานภาครัฐ"]
[null,null,null,"      เป็นหลัก  แต่หน่วยงานอื่นหรือภาคเอกชนก็สามารถนำไปปรับใช้ในการทำงานได้ครับ  อนึ่งหากแม้นโปรแกรมที่จัดทำนี้จะเป็นประโยชน์อยู่บ้าง"]
[null,null,null,"      ผมขอมอบคุณความดีนั้นแด่คุณบิดา  คุณมารดา  ครู  อาจารย์  ตลอดจนผู้มีพระคุณทุกท่านครับ"]
[null,null,null,null,null,null,null,null,null,null,null,null,"ธราเทพ  ทองเบ้า"]

{"sheet":"คำแนะนำ","index":4,"n_rows":18,"n_cols":11,"rows_kept":18,"cut":false,"hidden":false,"merged":[[2,2,2,14]]}
[]
[]
[null,null,"ข้อแนะนำการใช้งาน"]
[null,null,null,"หน้าต่างเลือกขนาดเหล็ก"]
[null,null,null,"-","คลิ๊กเลือกขนาดเหล็กที่ต้องการคำนวณให้มีเครื่องหมายถูกในช่อง         แล้วกดปุ่ม      "]
[null,null,null,"เพื่อทำการประมวลผล (เพื่อลดข้อผิดพลาดจากการคำนวณควรล้างการเลือกเหล็กก่อนทุกครั้ง)"]
[null,null,null,"-","หากต้องการล้างการเลือกขนาดเหล็กที่เลือกไว้ทั้งหมดให้กดปุ่ม    "]
[null,null,null,"-","หากต้องการพิมพ์ตารางเหล็กให้กดปุ่ม    ",null,null,null,null,null,"ซึ่งจะพิมพ์ผลลัพธ์ออกทางเครื่องพิมพ์"]
[null,null,null,"ซึ่งเป็น default ของ computer"]
[null,null,null,"หน้าต่างผลการคำนวณ"]
[null,null,null,"-","เมื่อทำการประมวลผลแล้วเสร็จจะเข้าสู่หน้าต่างการคำนวณให้กรอกความยาวเหล็กเป็นตัวเลขที่ต้องการคำนวณ"]
[null,null,null,"ในช่องสี",null,null,"โปรแกรมก็จะคำนวณน้ำหนักและพื้นที่ทาสีให้ครับ"]
[null,null,null,"-","เมื่อต้องการเลือกขนาดเหล็กใหม่หรือกลับไปเลือกขนาดเหล็กให้กดปุ่ม"]
[null,null,null,"-","หากต้องการพิมพ์ตารางเหล็กให้กดปุ่ม    ",null,null,null,null,null,"ซึ่งจะพิมพ์ผลลัพธ์ออกทางเครื่องพิมพ์"]
[null,null,null,"ซึ่งเป็น default ของ computer"]
[null,null,null,"การออกจากโปรแกรม"]
[null,null,null,"-","เพื่อคืนค่ารูปแบบพื้นฐานของโปรแกรม Excel ก่อนใช้โปรแกรมการออกจากโปรแกรมนี้ให้กดปุ่ม"]
[null,null,null,null,null,null,"เท่านั้นนะครับ"]