{"text_format":"1","workbook":"xlsx","n_sheets":6,"sheets":["Equal_Angles","Cal_Equal_Angles","Dialog1","main","เกี่ยวกับโปรแกรม","คำแนะนำ"],"not_rendered":{"charts":0,"images":17,"macros":1,"external_links":0,"defined_names":4,"comments":0,"pivot_tables":0},"unopened":[{"sheet":"Dialog1","index":2,"reason":"not_a_worksheet"}],"bounds":{"document_bytes":16777216,"sheet_cells":100000,"rows_first":2000,"rows_last":500,"rows_between":2000,"halvings":0,"cell_chars":16384,"cell_head_chars":4096},"cells_cut":0,"cells_raw":0,"read":"whole","date_system":"1900"}

{"sheet":"Equal_Angles","index":0,"n_rows":58,"n_cols":29,"rows_kept":58,"cut":false,"hidden":false,"merged":[[0,9,0,23],[8,8,9,8],[8,0,8,4],[9,9,9,10],[10,9,10,10],[1,9,1,23],[8,9,8,13],[8,14,9,14],[8,15,9,15],[8,17,8,19],[8,20,8,22],[11,9,11,10],[12,9,12,10],[13,9,13,10],[14,9,14,10],[15,9,15,10],[16,9,16,10],[17,9,17,10],[18,9,18,10],[19,9,19,10],[20,9,20,10],[21,9,21,10],[22,9,22,10],[23,9,23,10],[24,9,24,10],[25,9,25,10],[26,9,26,10],[27,9,27,10],[28,9,28,10],[29,9,29,10],[30,9,30,10],[31,9,31,10],[32,9,32,10],[33,9,33,10],[34,9,34,10],[35,9,35,10],[36,9,36,10],[37,9,37,10],[38,9,38,10],[39,9,39,10],[40,9,40,10],[41,9,41,10],[42,9,42,10],[43,9,43,10],[44,9,44,10],[45,9,45,10],[46,9,46,10],[47,9,47,10],[48,9,48,10],[49,9,49,10],[50,9,50,10],[56,9,56,10],[51,9,51,10],[52,9,52,10],[53,9,53,10],[54,9,54,10],[55,9,55,10]]}
[null,null,null,null,null,null,null,null,null,"เหล็กโครงสร้างรูปพรรณ"]
[null,null,null,null,null,null,null,null,null,"เหล็กฉากขาเท่ากัน (Equal angles)"]
[]
[]
[]
[]
[]
[null,null,null,null,null,null,null,null,null,null,null,null,null,null,null,null,null,null,null,null,null,null,null,"อ้างอิง มอก 1227-2539,JIS G3192 - 1990"]
["มิติต่างๆของหน้าตัด\nmm",null,null,null,null,null,null,null,"เลือก\nขนาด\nเหล็ก","ขนาดเหล็ก\nmm",null,null,null,null,"พื้นที่ หน้าตัด cm2","น้ำหนักkg/m. ","จุดศูนย์ถ่วง \ncm","โมเมนต์ความเฉื่อย\ncm4 ",null,null,"รัศมีไจเรชัน\ncm ",null,null,"โมดูลัสภาคตัด\ncm3 "]
["A","B","t","r1","r2",null,null,null,null,"A x B",null,"t","r1","r2",null,null,"Cx=Cy","Ix=Iy","max Iu ","min Iv ","rx=ry","max ru ","min rv ","Sx=Sy"]
[25,25,3,4,2,null,null,null,{"$f":"IF(AC11=0,\"\",AC11)","v":""},{"$f":"A11&\" x \"&B11","v":"25 x 25"},null,3,4,2,1.427,1.1200000000000001,0.71899999999999997,0.79700000000000004,1.26,0.33200000000000002,0.747,0.94,0.48299999999999998,0.44800000000000001,null,false,{"$f":"IF(Z11=TRUE,1,0)","v":0},{"$f":"AA11","v":0},{"$f":"IF(Z11=TRUE,AB11,0)","v":0}]
[25,25,5,3.5,2.4,null,null,null,"",{"$f":"A12&\" x \"&B12","v":"25 x 25"},null,"5*",3.5,2.4,2.2599999999999998,1.77,0.8,1.2,1.89,0.52,0.73,0.91,0.48,0.71,null,false,{"$f":"IF(Z12=TRUE,1,0)","v":0},{"$f":"SUM(AA$11:AA12)","v":0},0]
[30,30,3,4,2,null,null,null,"",{"$f":"A13&\" x \"&B13","v":"30 x 30"},null,3,4,2,1.7270000000000001,1.36,0.84399999999999997,1.42,2.2599999999999998,0.59,0.90800000000000003,1.1399999999999999,0.58499999999999996,0.66100000000000003,null,false,{"$f":"IF(Z13=TRUE,1,0)","v":0},{"$f":"SUM(AA$11:AA13)","v":0},0]
[30,30,5,5,2.4,null,null,null,"","30 x 30",null,"5*",5,2.4,2.78,2.1800000000000002,2.92,2.16,3.41,0.92,0.88,1.1100000000000001,0.56999999999999995,1.04,null,false,{"$f":"IF(Z14=TRUE,1,0)","v":0},{"$f":"SUM(AA$11:AA14)","v":0},0]
[40,40,3,4.5,2,null,null,null,"","40 x 40",null,3,4.5,2,2.3359999999999999,1.83,1.0900000000000001,3.53,5.6,1.46,1.23,1.55,0.79,1.21,null,false,0,{"$f":"SUM(AA$11:AA15)","v":0},0]
[40,40,4,6,2.4,null,null,null,"","40 x 40",null,"4*",6,2.4,3.08,2.42,1.1200000000000001,4.47,7.09,1.85,1.21,1.52,0.78,1.55,null,false,0,{"$f":"SUM(AA$11:AA16)","v":0},0]
[40,40,5,4.5,3,null,null,null,"","40 x 40",null,5,4.5,3,3.7549999999999999,2.95,1.17,5.42,8.59,2.25,1.2,1.51,0.77400000000000002,1.91,null,false,0,{"$f":"SUM(AA$11:AA17)","v":0},0]
[40,40,6,6,2.4,null,null,null,"","40 x 40",null,"6*",6,2.4,4.4800000000000004,3.52,1.2,6.31,9.98,2.65,1.19,1.49,0.77,2.2599999999999998,null,false,0,{"$f":"SUM(AA$11:AA18)","v":0},0]
[45,45,4,6.5,3,null,null,null,{"$f":"IF(AC19=0,\"\",AC19)","v":""},"45 x 45",null,4,6.5,3,3.492,2.74,1.24,6.5,10.3,2.7,1.36,1.72,0.88,2,null,false,{"$f":"IF(Z19=TRUE,1,0)","v":0},{"$f":"SUM(AA$11:AA19)","v":0},{"$f":"IF(Z19=TRUE,AB19,0)","v":0}]
[45,45,5,6.5,3,null,null,null,"","45 x 45",null,5,6.5,3,4.3019999999999996,3.38,1.28,7.91,12.5,3.29,1.36,1.71,0.874,2.46,null,false,0,{"$f":"SUM(AA$11:AA20)","v":0},0]
[50,50,3,7,2.4,null,null,null,"","50 x 50",null,"3*",7,2.4,2.96,2.33,1.31,6.86,10.8,2.88,1.52,1.91,0.99,1.86,null,false,0,{"$f":"SUM(AA$11:AA21)","v":0},0]
[50,50,4,6.5,3,null,null,null,"","50 x 50",null,4,6.5,3,3.8919999999999999,3.06,1.37,9.06,14.4,3.76,1.53,1.92,0.98299999999999998,2.4900000000000002,null,false,0,{"$f":"SUM(AA$11:AA22)","v":0},0]
[50,50,5,6.5,3,null,null,null,"","50 x 50",null,5,6.5,3,4.8019999999999996,3.77,1.41,11.1,17.5,4.58,1.52,1.91,0.97599999999999998,3.08,null,false,0,{"$f":"SUM(AA$11:AA23)","v":0},0]
[50,50,6,6.5,4.5,null,null,null,"","50 x 50",null,6,6.5,4.5,5.6440000000000001,4.43,1.44,12.6,20,5.23,1.5,1.88,0.96299999999999997,3.55,null,false,0,{"$f":"SUM(AA$11:AA24)","v":0},0]
[60,60,4,6.5,3,null,null,null,"","60 x 60",null,4,6.5,3,4.6920000000000002,3.68,1.61,16,25.4,6.62,1.85,2.33,1.19,3.66,null,false,{"$f":"IF(Z25=TRUE,1,0)","v":0},{"$f":"SUM(AA$11:AA25)","v":0},{"$f":"IF(Z25=TRUE,AB25,0)","v":0}]
[60,60,5,6.5,3,null,null,null,"","60 x 60",null,5,6.5,3,5.8019999999999996,4.55,1.66,19.600000000000001,31.2,8.09,1.84,2.3199999999999998,1.18,4.5199999999999996,null,false,0,{"$f":"SUM(AA$11:AA26)","v":0},0]
[65,65,5,8.5,3,null,null,null,"","65 x 65",null,5,8.5,3,6.367,5,1.77,25.3,40.1,10.5,1.99,2.5099999999999998,1.28,5.35,null,false,0,{"$f":"SUM(AA$11:AA27)","v":0},0]
[65,65,6,8.5,4,null,null,null,"","65 x 65",null,6,8.5,4,7.5270000000000001,5.91,1.81,29.4,46.6,12.2,1.98,2.4900000000000002,1.27,6.26,null,false,0,{"$f":"SUM(AA$11:AA28)","v":0},0]
[65,65,8,8.5,6,null,null,null,"","65 x 65",null,8,8.5,6,9.7609999999999992,7.66,1.88,36.799999999999997,58.3,15.3,1.94,2.44,1.25,7.96,null,false,0,{"$f":"SUM(AA$11:AA29)","v":0},0]
[70,70,6,8.5,4,null,null,null,"","70 x 70",null,6,8.5,4,8.1270000000000007,6.38,1.93,37.1,58.9,15.3,2.14,2.69,1.37,7.33,null,false,0,{"$f":"SUM(AA$11:AA30)","v":0},0]
[75,75,6,8.5,4,null,null,null,"","75 x 75",null,6,8.5,4,8.7270000000000003,6.85,2.06,46.1,73.2,19,2.2999999999999998,2.9,1.48,8.4700000000000006,null,false,{"$f":"IF(Z31=TRUE,1,0)","v":0},{"$f":"SUM(AA$11:AA31)","v":0},0]
[75,75,9,8.5,6,null,null,null,"","75 x 75",null,9,8.5,6,12.69,9.9600000000000009,2.17,64.400000000000006,102,26.7,2.25,2.84,1.45,12.1,null,false,0,{"$f":"SUM(AA$11:AA32)","v":0},0]
[75,75,12,8.5,6,null,null,null,"","75 x 75",null,12,8.5,6,16.559999999999999,13,2.29,81.900000000000006,129,34.5,2.2200000000000002,2.79,1.44,15.7,null,false,0,{"$f":"SUM(AA$11:AA33)","v":0},0]
[80,80,6,8.5,4,null,null,null,"","80 x 80",null,6,8.5,4,9.327,7.32,2.1800000000000002,56.4,89.6,23.2,2.46,3.1,1.58,9.6999999999999993,null,false,0,{"$f":"SUM(AA$11:AA34)","v":0},0]
[90,90,6,10,5,null,null,null,"","90 x 90",null,6,10,5,10.55,8.2799999999999994,2.42,80.7,128,33.4,2.77,3.48,1.78,12.3,null,false,0,{"$f":"SUM(AA$11:AA35)","v":0},0]
[90,90,7,10,5,null,null,null,"","90 x 90",null,7,10,5,12.22,9.59,2.46,93,148,38.299999999999997,2.76,3.48,1.77,14.2,null,false,0,{"$f":"SUM(AA$11:AA36)","v":0},0]
[90,90,10,10,7,null,null,null,"","90 x 90",null,10,10,7,17,13.3,2.57,125,199,51.7,2.71,3.42,1.74,19.5,null,false,{"$f":"IF(Z37=TRUE,1,0)","v":0},{"$f":"SUM(AA$11:AA37)","v":0},0]
[90,90,12,11,4.8,null,null,null,"","90 x 90",null,"12*",11,4.8,20.3,15.9,2.66,148,234,61.7,2.7,3.4,1.75,23.3,null,false,0,{"$f":"SUM(AA$11:AA38)","v":0},0]
[90,90,13,10,7,null,null,null,"","90 x 90",null,13,10,7,21.71,17,2.69,156,248,65.3,2.68,3.38,1.73,24.8,null,false,0,{"$f":"SUM(AA$11:AA39)","v":0},0]
[100,100,7,10,5,null,null,null,"","100 x 100",null,7,10,5,13.62,10.7,2.71,129,205,53.2,3.08,3.88,1.98,17.7,null,false,0,{"$f":"SUM(AA$11:AA40)","v":0},0]
[100,100,10,10,7,null,null,null,"","100 x 100",null,10,10,7,19,14.9,2.82,175,278,72,3.04,3.83,1.95,24.4,null,false,0,{"$f":"SUM(AA$11:AA41)","v":0},0]
[100,100,12,12,4.8,null,null,null,"","100 x 100",null,"12*",12,4.8,22.7,17.8,2.9,207,328,85.7,3.02,3.8,1.94,29.1,null,false,0,{"$f":"SUM(AA$11:AA42)","v":0},0]
[100,100,13,10,7,null,null,null,"","100 x 100",null,13,10,7,24.31,19.100000000000001,2.94,220,348,91.1,3,3.78,1.94,31.1,null,false,{"$f":"IF(Z43=TRUE,1,0)","v":0},{"$f":"SUM(AA$11:AA43)","v":0},0]
[120,120,8,12,5,null,null,null,"","120 x 120",null,8,12,5,18.760000000000002,14.7,3.24,258,410,106,3.71,4.67,2.38,29.5,null,false,0,{"$f":"SUM(AA$11:AA44)","v":0},0]
[130,130,9,12,6,null,null,null,"","130 x 130",null,9,12,6,22.74,17.899999999999999,3.53,366,583,150,4.01,5.0599999999999996,2.57,38.700000000000003,null,false,0,{"$f":"SUM(AA$11:AA45)","v":0},0]
[130,130,12,12,8.5,null,null,null,"","130 x 130",null,12,12,8.5,29.76,23.4,3.64,467,743,192,3.96,5,2.54,49.9,null,false,0,{"$f":"SUM(AA$11:AA46)","v":0},0]
[130,130,15,12,8.5,null,null,null,"","130 x 130",null,15,12,8.5,36.75,28.8,3.76,568,902,234,3.93,4.95,2.5299999999999998,21.5,null,false,0,{"$f":"SUM(AA$11:AA47)","v":0},0]
[150,150,12,14,7,null,null,null,"","150 x 150",null,12,14,7,34.770000000000003,27.3,4.1399999999999997,740,1180,304,4.6100000000000003,5.82,2.96,68.099999999999994,null,false,0,{"$f":"SUM(AA$11:AA48)","v":0},0]
[150,150,15,14,10,null,null,null,"","150 x 150",null,15,14,10,42.74,33.6,4.24,888,1410,365,4.5599999999999996,5.75,2.92,82.6,null,false,{"$f":"IF(Z49=TRUE,1,0)","v":0},{"$f":"SUM(AA$11:AA49)","v":0},0]
[150,150,19,14,10,null,null,null,"","150 x 150",null,19,14,10,53.38,41.9,4.4000000000000004,1090,1730,451,4.5199999999999996,5.69,2.91,103,null,false,0,{"$f":"SUM(AA$11:AA50)","v":0},0]
[175,175,12,15,11,null,null,null,"","175 x 175",null,12,15,11,40.520000000000003,31.8,4.7300000000000004,1170,1860,480,5.38,6.78,3.44,91.8,null,false,0,{"$f":"SUM(AA$11:AA51)","v":0},0]
[175,175,15,15,11,null,null,null,"","175 x 175",null,15,15,11,50.21,39.4,4.8499999999999996,1440,2290,589,5.35,6.75,3.42,114,null,false,0,{"$f":"SUM(AA$11:AA52)","v":0},0]
[200,200,15,17,12,null,null,null,"","200 x 200",null,15,17,12,57.75,45.3,5.46,2180,3470,891,6.14,7.75,3.93,150,null,false,0,{"$f":"SUM(AA$11:AA53)","v":0},0]
[200,200,20,17,12,null,null,null,"","200 x 200",null,20,17,12,76,59.7,5.67,2820,4490,1160,6.09,7.68,3.9,197,null,false,0,{"$f":"SUM(AA$11:AA54)","v":0},0]
[200,200,25,17,12,null,null,null,"","200 x 200",null,25,17,12,93.75,73.599999999999994,5.86,3420,5420,1410,6.04,7.61,3.88,242,null,false,{"$f":"IF(Z55=TRUE,1,0)","v":0},{"$f":"SUM(AA$11:AA55)","v":0},0]
[250,250,25,24,12,null,null,null,"","250 x 250",null,25,24,12,119.4,93.7,7.1,6950,11000,2860,7.63,9.6199999999999992,4.9000000000000004,388,null,false,0,{"$f":"SUM(AA$11:AA56)","v":0},0]
[250,250,35,24,18,null,null,null,"","250 x 250",null,35,24,18,162.6,128,7.45,9110,14400,3790,7.49,9.42,4.83,519,null,false,0,{"$f":"SUM(AA$11:AA57)","v":0},0]
[null,null,null,null,null,null,null,null,null,"* เป็นความหนาที่ไม่มีกำหนดในมาตรฐาน JIS G 3192 - 1990"]

{"sheet":"Cal_Equal_Angles","index":1,"n_rows":61,"n_cols":26,"rows_kept":61,"cut":false,"hidden":false,"merged":[[8,0,8,4],[8,6,9,6],[8,7,8,11],[8,12,9,12],[8,13,9,13],[9,7,9,8],[22,7,22,8],[23,7,23,8],[24,7,24,8],[25,7,25,8],[26,7,26,8],[27,7,27,8],[16,7,16,8],[17,7,17,8],[18,7,18,8],[19,7,19,8],[20,7,20,8],[21,7,21,8],[36,7,36,8],[37,7,37,8],[38,7,38,8],[39,7,39,8],[28,7,28,8],[29,7,29,8],[30,7,30,8],[31,7,31,8],[32,7,32,8],[33,7,33,8],[52,7,52,8],[53,7,53,8],[54,7,54,8],[55,7,55,8],[56,7,56,8],[8,15,8,16],[9,15,9,16],[56,15,56,16],[55,15,55,16],[54,15,54,16],[46,7,46,8],[47,7,47,8],[48,7,48,8],[49,7,49,8],[50,7,50,8],[51,7,51,8],[40,7,40,8],[41,7,41,8],[42,7,42,8],[43,7,43,8],[44,7,44,8],[45,7,45,8],[34,7,34,8],[35,7,35,8],[47,15,47,16],[46,15,46,16],[45,15,45,16],[44,15,44,16],[43,15,43,16],[42,15,42,16],[53,15,53,16],[52,15,52,16],[51,15,51,16],[50,15,50,16],[49,15,49,16],[48,15,48,16],[35,15,35,16],[34,15,34,16],[33,15,33,16],[32,15,32,16],[31,15,31,16],[30,15,30,16],[41,15,41,16],[40,15,40,16],[39,15,39,16],[38,15,38,16],[37,15,37,16],[36,15,36,16],[23,15,23,16],[22,15,22,16],[21,15,21,16],[20,15,20,16],[19,15,19,16],[18,15,18,16],[29,15,29,16],[28,15,28,16],[27,15,27,16],[26,15,26,16],[25,15,25,16],[24,15,24,16],[11,15,11,16],[10,15,10,16],[0,6,0,17],[1,6,1,17],[17,15,17,16],[16,15,16,16],[15,15,15,16],[14,15,14,16],[13,15,13,16],[12,15,12,16],[10,7,10,8],[11,7,11,8],[12,7,12,8],[13,7,13,8],[14,7,14,8],[15,7,15,8]]}
[null,null,null,null,null,null,"เหล็กโครงสร้างรูปพรรณ"]
[null,null,null,null,null,null,"เหล็กฉากขาเท่ากัน (Equal angles)"]
[]
[]
[]
[]
[]
[]
["มิติต่างๆของหน้าตัด\nmm",null,null,null,null,null,"ลำดับ","ขนาดเหล็ก\nmm",null,null,null,null,"ความยาว  เหล็ก \nm","มวลต่อเมตร\nkg/m. ","น้ำหนักรวม","พื้นที่ผิว\n(As)",null,"พื้นที่ทาสี"]
["A","B","t","r1","r2",null,null,"A x B",null,"t","r1","r2",null,null,"Kg","m2/m",null,"m2"]
[25,25,3,4,2,null,{"$f":"Equal_Angles!AC11","v":0},{"$f":"A11&\" x \"&B11","v":"25 x 25"},null,3,4,2,0,1.1200000000000001,{"$f":"TRUNC(M11*N11,3)","v":0},{"$f":"ROUND((((A11+B11)*2)-(2*D11)-(4*E11)+(0.5*PI()*D11)+(PI()*E11))/1000,3)","v":9.7000000000000003E-2},null,{"$f":"ROUND(M11*P11,3)","v":0}]
[25,25,5,3.5,2.4,null,{"$f":"Equal_Angles!AC12","v":0},{"$f":"A12&\" x \"&B12","v":"25 x 25"},null,"5*",3.5,2.4,0,1.77,{"$f":"TRUNC(M12*N12,3)","v":0},9.6000000000000002E-2,null,{"$f":"ROUND(M12*P12,3)","v":0}]
[30,30,3,4,2,null,{"$f":"Equal_Angles!AC13","v":0},{"$f":"A13&\" x \"&B13","v":"30 x 30"},null,3,4,2,0,1.36,0,0.11700000000000001,null,0]
[30,30,5,5,2.4,null,{"$f":"Equal_Angles!AC14","v":0},"30 x 30",null,"5*",5,2.4,0,2.1800000000000002,0,0.11600000000000001,null,0]
[40,40,3,4.5,2,null,{"$f":"Equal_Angles!AC15","v":0},"40 x 40",null,3,4.5,2,0,1.83,0,0.156,null,0,null,null,null,null,null,null,null,false]
[40,40,4,6,2.4,null,{"$f":"Equal_Angles!AC16","v":0},"40 x 40",null,"4*",6,2.4,0,2.42,0,0.155,null,0,null,null,null,null,null,null,null,false]
[40,40,5,4.5,3,null,{"$f":"Equal_Angles!AC17","v":0},"40 x 40",null,5,4.5,3,0,2.95,0,0.155,null,0,null,null,null,null,null,null,null,false]
[40,40,6,6,2.4,null,{"$f":"Equal_Angles!AC18","v":0},"40 x 40",null,"6*",6,2.4,0,3.52,0,0.155,null,0,null,null,null,null,null,null,null,false]
[45,45,4,6.5,3,null,{"$f":"Equal_Angles!AC19","v":0},"45 x 45",null,4,6.5,3,0,2.74,0,0.17499999999999999,null,0,null,null,null,null,null,null,null,false]
[45,45,5,6.5,3,null,{"$f":"Equal_Angles!AC20","v":0},"45 x 45",null,5,6.5,3,0,3.38,0,0.17499999999999999,null,0,null,null,null,null,null,null,null,false]
[50,50,3,7,2.4,null,{"$f":"Equal_Angles!AC21","v":0},"50 x 50",null,"3*",7,2.4,0,2.33,0,0.19500000000000001,null,0,null,null,null,null,null,null,null,false]
[50,50,4,6.5,3,null,{"$f":"Equal_Angles!AC22","v":0},"50 x 50",null,4,6.5,3,0,3.06,0,0.19500000000000001,null,0,null,null,null,null,null,null,null,false]
[50,50,5,6.5,3,null,{"$f":"Equal_Angles!AC23","v":0},"50 x 50",null,5,6.5,3,0,3.77,0,0.19500000000000001,null,0,null,null,null,null,null,null,null,false]
[50,50,6,6.5,4.5,null,{"$f":"Equal_Angles!AC24","v":0},"50 x 50",null,6,6.5,4.5,0,4.43,0,0.193,null,0,null,null,null,null,null,null,null,false]
[60,60,4,6.5,3,null,{"$f":"Equal_Angles!AC25","v":0},"60 x 60",null,4,6.5,3,0,3.68,0,0.23499999999999999,null,0,null,null,null,null,null,null,null,false]
[60,60,5,6.5,3,null,{"$f":"Equal_Angles!AC26","v":0},"60 x 60",null,5,6.5,3,0,4.55,0,0.23499999999999999,null,0,null,null,null,null,null,null,null,false]
[65,65,5,8.5,3,null,{"$f":"Equal_Angles!AC27","v":0},"65 x 65",null,5,8.5,3,0,5,0,0.254,null,0,null,null,null,null,null,null,null,false]
[65,65,6,8.5,4,null,{"$f":"Equal_Angles!AC28","v":0},"65 x 65",null,6,8.5,4,0,5.91,0,0.253,null,0,null,null,null,null,null,null,null,false]
[65,65,8,8.5,6,null,{"$f":"Equal_Angles!AC29","v":0},"65 x 65",null,8,8.5,6,0,7.66,0,0.251,null,0,null,null,null,null,null,null,null,false]
[70,70,6,8.5,4,null,{"$f":"Equal_Angles!AC30","v":0},"70 x 70",null,6,8.5,4,0,6.38,0,0.27300000000000002,null,0,null,null,null,null,null,null,null,false]
[75,75,6,8.5,4,null,{"$f":"Equal_Angles!AC31","v":0},"75 x 75",null,6,8.5,4,0,6.85,0,0.29299999999999998,null,0,null,null,null,null,null,null,null,false]
[75,75,9,8.5,6,null,{"$f":"Equal_Angles!AC32","v":0},"75 x 75",null,9,8.5,6,0,9.9600000000000009,0,0.29099999999999998,null,0,null,null,null,null,null,null,null,false]
[75,75,12,8.5,6,null,{"$f":"Equal_Angles!AC33","v":0},"75 x 75",null,12,8.5,6,0,13,0,0.29099999999999998,null,0,null,null,null,null,null,null,null,false]
[80,80,6,8.5,4,null,{"$f":"Equal_Angles!AC34","v":0},"80 x 80",null,6,8.5,4,0,7.32,0,0.313,null,0,null,null,null,null,null,null,null,false]
[90,90,6,10,5,null,{"$f":"Equal_Angles!AC35","v":0},"90 x 90",null,6,10,5,0,8.2799999999999994,0,0.35099999999999998,null,0,null,null,null,null,null,null,null,false]
[90,90,7,10,5,null,{"$f":"Equal_Angles!AC36","v":0},"90 x 90",null,7,10,5,0,9.59,0,0.35099999999999998,null,0,null,null,null,null,null,null,null,false]
[90,90,10,10,7,null,{"$f":"Equal_Angles!AC37","v":0},"90 x 90",null,10,10,7,0,13.3,0,0.35,null,0,null,null,null,null,null,null,null,false]
[90,90,12,11,4.8,null,{"$f":"Equal_Angles!AC38","v":0},"90 x 90",null,"12*",11,4.8,0,15.9,0,0.35099999999999998,null,0,null,null,null,null,null,null,null,false]
[90,90,13,10,7,null,{"$f":"Equal_Angles!AC39","v":0},"90 x 90",null,13,10,7,0,17,0,0.35,null,0,null,null,null,null,null,null,null,false]
[100,100,7,10,5,null,{"$f":"Equal_Angles!AC40","v":0},"100 x 100",null,7,10,5,0,10.7,0,0.39100000000000001,null,0,null,null,null,null,null,null,null,false]
[100,100,10,10,7,null,{"$f":"Equal_Angles!AC41","v":0},"100 x 100",null,10,10,7,0,14.9,0,0.39,null,0,null,null,null,null,null,null,null,false]
[100,100,12,12,4.8,null,{"$f":"Equal_Angles!AC42","v":0},"100 x 100",null,"12*",12,4.8,0,17.8,0,0.39100000000000001,null,0,null,null,null,null,null,null,null,false]
[100,100,13,10,7,null,{"$f":"Equal_Angles!AC43","v":0},"100 x 100",null,13,10,7,0,19.100000000000001,0,0.39,null,0,null,null,null,null,null,null,null,false]
[120,120,8,12,5,null,{"$f":"Equal_Angles!AC44","v":0},"120 x 120",null,8,12,5,0,14.7,0,0.47099999999999997,null,0,null,null,null,null,null,null,null,false]
[130,130,9,12,6,null,{"$f":"Equal_Angles!AC45","v":0},"130 x 130",null,9,12,6,0,17.899999999999999,0,0.51,null,0,null,null,null,null,null,null,null,false]
[130,130,12,12,8.5,null,{"$f":"Equal_Angles!AC46","v":0},"130 x 130",null,12,12,8.5,0,23.4,0,0.50800000000000001,null,0,null,null,null,null,null,null,null,false]
[130,130,15,12,8.5,null,{"$f":"Equal_Angles!AC47","v":0},"130 x 130",null,15,12,8.5,0,28.8,0,0.50800000000000001,null,0,null,null,null,null,null,null,null,false]
[150,150,12,14,7,null,{"$f":"Equal_Angles!AC48","v":0},"150 x 150",null,12,14,7,0,27.3,0,0.58799999999999997,null,0,null,null,null,null,null,null,null,false]
[150,150,15,14,10,null,{"$f":"Equal_Angles!AC49","v":0},"150 x 150",null,15,14,10,0,33.6,0,0.58499999999999996,null,0,null,null,null,null,null,null,null,false]
[150,150,19,14,10,null,{"$f":"Equal_Angles!AC50","v":0},"150 x 150",null,19,14,10,0,41.9,0,0.58499999999999996,null,0,null,null,null,null,null,null,null,false]
[175,175,12,15,11,null,{"$f":"Equal_Angles!AC51","v":0},"175 x 175",null,12,15,11,0,31.8,0,0.68400000000000005,null,0,null,null,null,null,null,null,null,false]
[175,175,15,15,11,null,{"$f":"Equal_Angles!AC52","v":0},"175 x 175",null,15,15,11,0,39.4,0,0.68400000000000005,null,0,null,null,null,null,null,null,null,false]
[200,200,15,17,12,null,{"$f":"Equal_Angles!AC53","v":0},"200 x 200",null,15,17,12,0,45.3,0,0.78200000000000003,null,0,null,null,null,null,null,null,null,false]
[200,200,20,17,12,null,{"$f":"Equal_Angles!AC54","v":0},"200 x 200",null,20,17,12,0,59.7,0,0.78200000000000003,null,0,null,null,null,null,null,null,null,false]
[200,200,25,17,12,null,{"$f":"Equal_Angles!AC55","v":0},"200 x 200",null,25,17,12,0,73.599999999999994,0,0.78200000000000003,null,0,null,null,null,null,null,null,null,false]
[250,250,25,24,12,null,{"$f":"Equal_Angles!AC56","v":0},"250 x 250",null,25,24,12,0,93.7,0,0.97899999999999998,null,0,null,null,null,null,null,null,null,false]
[250,250,35,24,18,null,{"$f":"Equal_Angles!AC57","v":0},"250 x 250",null,35,24,18,0,128,0,{"$f":"ROUND((((A57+B57)*2)-(2*D57)-(4*E57)+(0.5*PI()*D57)+(PI()*E57))/1000,3)","v":0.97399999999999998},null,0,null,null,null,null,null,null,null,false]
[null,null,null,null,null,null,"* เป็นความหนาที่ไม่มีกำหนดในมาตรฐาน JIS G 3192 - 1990",null,null,null,null,null,null,"น้ำหนักรวม",{"$f":"TRUNC(SUM(O11:O57),2)","v":0},"kg","พื้นที่ทาสีรวม",{"$f":"ROUND(SUM(R11:R57),2)","v":0},"m2"]
[null,null,null,null,null,null,"หมายเหตุ",null,null,null,null,null,null,null,{"$f":"TRUNC(O58/1000,2)","v":0},"ton"]
[null,null,null,null,null,null,"มวลต่อเมตร อ้างอิงจาก          :          JIS G3192 - 1990"]
[null,null,null,null,null,null,"พื้นที่ผิว(As) คำนวณจากสูตร  :          As = {[(A + B) x 2] - 2r1 - 4r2 + 0.5pr1 + pr2} / 1,000  m2/m"]

{"sheet":"main","index":3,"n_rows":0,"n_cols":0,"rows_kept":0,"cut":false,"hidden":true,"merged":[]}

{"sheet":"เกี่ยวกับโปรแกรม","index":4,"n_rows":17,"n_cols":13,"rows_kept":17,"cut":false,"hidden":false,"merged":[[2,10,2,11]]}
[]
[]
[null,null,null,null,null,null,null,null,null,null,"เกี่ยวกับโปรแกรม"]
[null,null,null,null,null,null,null,"โปรแกรมนี้พัฒนาขึ้นเพื่อสนับสนุนและอำนวยความสะดวกในการคำนวณหาน้ำหนักและพื้นที่ทาสีเหล็กฉาก"]
[null,null,null,null,null,null,null,"ขาเท่ากัน  โดยหน่วยน้ำหนัก(มวลต่อเมตร)ในโปรแกรมนี้อ้างอิงตามมาตรฐานผลิตภัณฑ์อุตสาหกรรม"]
[null,null,null,null,null,null,null,"มอก. 1227-2539  และ JIS G3192-1990  เพื่อให้เป็นไปตามระเบียบเกี่ยวกับพัสดุของหน่วยราชการ"]
[null,null,null,null,null,null,null,"โดยระเบียบกำหนดให้วัสดุที่มีการกำหนดมาตรฐานผลิตภัณฑ์อุตสาหกรรม  หน่วยงานรัฐต้องกำหนด"]
[null,null,null,null,null,null,null,"รายละเอียด คุณลักษณะเฉพาะหรือรายการในการก่อสร้างให้เป็นไปตามมาตรฐานผลิตภัณฑ์อุตสาหกรรมด้วย"]
[null,null,null,null,null,null,null,"สำหรับโปรแกรมนี้จะคำนวณน้ำหนักเป็นหน่วยกิโลกรัม(Kg) และหน่วยน้ำหนักเป็นตัน(Ton)  เพื่อให้ง่าย"]
[null,null,null,null,null,null,null,"และตรงตามเกณฑ์การคำนวณค่าแรงงานตามหลักเกณฑ์การคำนวณราคากลางของทางราชการ สำหรับพื้นที่ผิว "]
[null,null,null,null,null,null,null,"คำนวณจากเส้นรอบรูปของพื้นที่หน้าตัดเหล็กฉากขาเท่ากัน  โดยสูตรในการคำนวณเทียบเคียงจากหนังสือ"]
[null,null,null,"      คู่มืองานเหล็ก  ของประสิทธิ์  เวียงแก้วและฉัตรชัย ลาภรังสิรัตน์  และได้แปลงหน่วยให้อยู่ในรูปตารางเมตรเพื่อให้สอดคล้องและง่ายต่อการประมาณราคา"]
[null,null,null,"      ค่าวัสดุและแรงงาน  งานทาสี  ของกรมบัญชีกลาง  ตามหลักเกณฑ์การคำนวณราคากลางงานก่อสร้างของทางราชการอีกด้วย"]
[null,null,null,"                   ผู้จัดทำเป็นเพียงผู้หนึ่งที่ทำงานในหน่วยงานภาครัฐสังกัดองค์กรปกครองส่วนท้องถิ่น  จึงอาจมุ่งเน้นการใช้งานสำหรับหน่วยงานภาครัฐ"]
[null,null,null,"      เป็นหลัก  แต่หน่วยงานอื่นหรือภาคเอกชนก็สามารถนำไปปรับใช้ในการทำงานได้ครับ  อนึ่งหากแม้นโปรแกรมที่จัดทำนี้จะเป็นประโยชน์อยู่บ้าง"]
[null,null,null,"      ผมขอมอบคุณความดีนั้นแด่คุณบิดา  คุณมารดา  ครู  อาจารย์  ตลอดจนผู้มีพระคุณทุกท่านครับ"]
[null,null,null,null,null,null,null,null,null,null,null,null,"ธราเทพ  ทองเบ้า"]

{"sheet":"คำแนะนำ","index":5,"n_rows":18,"n_cols":11,"rows_kept":18,"cut":false,"hidden":false,"merged":[[2,2,2,14]]}
[]
[]
[null,null,"ข้อแนะนำการใช้งาน"]
[null,null,null,"หน้าต่างเลือกขนาดเหล็ก"]
[null,null,null,"-","คลิ๊กเลือกขนาดเหล็กที่ต้องการคำนวณให้มีเครื่องหมายถูกในช่อง         แล้วกดปุ่ม      "]
[null,null,null,"เพื่อทำการประมวลผล(เพื่อลดข้อผิดพลาดจากการคำนวณควรล้างการเลือกเหล็กก่อนทุกครั้ง) "]
[null,null,null,"-","หากต้องการล้างการเลือกขนาดเหล็กที่เลือกไว้ทั้งหมดให้กดปุ่ม    "]
[null,null,null,"-","หากต้องการพิมพ์ตารางเหล็กให้กดปุ่ม    ",null,null,null,null,null,"ซึ่งจะพิมพ์ผลลัพธ์ออกทางเครื่องพิมพ์"]
[null,null,null,"ซึ่งเป็น default ของ computer"]
[null,null,null,"หน้าต่างผลการคำนวณ"]
[null,null,null,"-","เมื่อทำการประมวลผลแล้วเสร็จจะเข้าสู่หน้าต่างการคำนวณให้กรอกความยาวเหล็กเป็นตัวเลขที่ต้องการคำนวณ"]
[null,null,null,"ในช่องสี",null,null,"โปรแกรมก็จะคำนวณน้ำหนักและพื้นที่ทาสีให้ครับ"]
[null,null,null,"-","เมื่อต้องการเลือกขนาดเหล็กใหม่หรือกลับไปเลือกขนาดเหล็กให้กดปุ่ม"]
[null,null,null,"-","หากต้องการพิมพ์ตารางเหล็กให้กดปุ่ม    ",null,null,null,null,null,"ซึ่งจะพิมพ์ผลลัพธ์ออกทางเครื่องพิมพ์"]
[null,null,null,"ซึ่งเป็น default ของ computer"]
[null,null,null,"การออกจากโปรแกรม"]
[null,null,null,"-","เพื่อคืนค่ารูปแบบพื้นฐานของโปรแกรม Excel ก่อนใช้โปรแกรมการออกจากโปรแกรมนี้ให้กดปุ่ม"]
[null,null,null,null,null,null,"เท่านั้นนะครับ"]