{"text_format":"1","workbook":"xlsx","n_sheets":5,"sheets":["Light_Lip_Channel","Dialog1","Cal_Light_Lip_Channel","เกี่ยวกับโปรแกรม","คำแนะนำ"],"not_rendered":{"charts":0,"images":11,"macros":1,"external_links":0,"defined_names":6,"comments":1,"pivot_tables":0},"unopened":[{"sheet":"Dialog1","index":1,"reason":"not_a_worksheet"}],"bounds":{"document_bytes":16777216,"sheet_cells":100000,"rows_first":2000,"rows_last":500,"rows_between":2000,"halvings":0,"cell_chars":16384,"cell_head_chars":4096},"cells_cut":0,"cells_raw":0,"read":"whole","date_system":"1900"}

{"sheet":"Light_Lip_Channel","index":0,"n_rows":52,"n_cols":25,"rows_kept":52,"cut":false,"hidden":false,"merged":[[9,0,9,3],[9,10,9,11],[10,10,10,11],[9,12,9,13],[10,12,10,13],[0,7,0,19],[1,7,1,19],[9,8,11,8],[9,9,11,9],[9,14,9,15],[9,16,9,17],[9,18,9,19],[10,14,10,15],[10,16,10,17],[10,18,10,19]]}
[null,null,null,null,null,null,null,"เหล็กโครงสร้างรูปพรรณขึ้นรูปเย็น"]
[null,null,null,null,null,null,null,"เหล็กรูปตัวซี (Light Lip channel steel)"]
[]
[]
[]
[]
[]
[]
[null,null,null,null,null,null,null,null,null,null,null,null,null,null,null,null,null,null,null,"อ้างอิง มอก. 1228 - 2549"]
["ขนาด",null,null,null,null,null,"เลือก","ขนาดเหล็ก","พื้นที่\nหน้าตัด cm2","มวลต่อเมตร kg/m.","ระยะจากจุดศูนย์ถ่วง",null,"โมเมนต์ความเฉื่อย",null,"รัศมีไจเรชัน",null,"มอดูลัสภาคตัด",null,"ระยะจากศูนย์แรงเฉือน"]
["H","A","C","t",null,null,"ขนาด","mm.",null,null,"cm",null,"cm4",null,"cm",null,"cm3",null,"cm"]
["(mm.)","(mm.)","(mm.)","(mm.)",null,null,"เหล็ก","H x A x C x t",null,null,"Cx","Cy","Ix","Iy","ix","iy","Zx","Zy","Sx","Sy"]
[60,30,10,1.6,null,null,{"$f":"Y13","v":0},{"$f":"CONCATENATE(A13,\" x \",B13,\" x \",C13,\" x \",FIXED(D13,1), \" mm.\")","v":"60 x 30 x 10 x 1.6 mm."},2.0720000000000001,1.63,0,1.06,11.6,2.56,2.37,1.1100000000000001,3.88,1.32,2.5,0,null,false,{"$f":"IF(V13=TRUE,1,0)","v":0},{"$f":"W13","v":0},{"$f":"IF(V13=TRUE,X13,0)","v":0}]
[60,30,10,2,null,null,{"$f":"Y14","v":0},"60 x 30 x 10 x 2.0 mm.",2.5369999999999999,1.99,0,1.06,14,3.01,2.35,1.0900000000000001,4.6500000000000004,1.55,2.5,0,null,false,{"$f":"IF(V14=TRUE,1,0)","v":0},{"$f":"SUM(W$13:W14)","v":0},{"$f":"IF(V14=TRUE,X14,0)","v":0}]
[60,30,10,2.2999999999999998,null,null,{"$f":"Y15","v":0},"60 x 30 x 10 x 2.3 mm.",2.8719999999999999,2.25,0,1.06,15.6,3.32,2.33,1.07,5.2,1.71,2.5,0,null,false,{"$f":"IF(V15=TRUE,1,0)","v":0},{"$f":"SUM(W$13:W15)","v":0},{"$f":"IF(V15=TRUE,X15,0)","v":0}]
[70,40,25,1.6,null,null,{"$f":"Y16","v":0},"70 x 40 x 25 x 1.6 mm.",3.032,2.38,0,1.8,22,8,2.69,1.62,6.29,3.64,4.4000000000000004,0,null,false,{"$f":"IF(V16=TRUE,1,0)","v":0},{"$f":"SUM(W$13:W16)","v":0},{"$f":"IF(V16=TRUE,X16,0)","v":0}]
[75,35,15,2.2999999999999998,null,null,0,"75 x 35 x 15 x 2.3 mm.",3.677,2.89,0,1.29,31,6.58,2.91,1.34,8.2799999999999994,2.98,3.1,0,null,false,0,{"$f":"SUM(W$13:W17)","v":0},0]
[75,45,15,2.2999999999999998,null,null,0,"75 x 45 x 15 x 2.3 mm.",4.1369999999999996,3.25,0,1.72,37.1,11.8,3,1.69,9.9,4.24,4,0,null,false,0,{"$f":"SUM(W$13:W18)","v":0},0]
[90,45,20,1.6,null,null,0,"90 x 45 x 20 x 1.6 mm.",3.3519999999999999,2.63,0,1.73,42.6,10.5,3.56,1.77,9.4600000000000009,5.8,4.2,0,null,false,0,{"$f":"SUM(W$13:W19)","v":0},0]
[90,45,20,2.2999999999999998,null,null,0,"90 x 45 x 20 x 2.3 mm.",4.7119999999999997,3.7,0,1.73,58.6,14.2,3.53,1.74,13,5.14,4.0999999999999996,0,null,false,0,{"$f":"SUM(W$13:W20)","v":0},0]
[90,45,20,3.2,null,null,0,"90 x 45 x 20 x 3.2 mm.",6.367,5,0,1.72,76.900000000000006,18.3,3.48,1.69,17.100000000000001,6.57,4.0999999999999996,0,null,false,0,{"$f":"SUM(W$13:W21)","v":0},0]
[100,50,20,1.6,null,null,0,"100 x 50 x 20 x 1.6 mm.",3.6720000000000002,2.88,0,1.87,58.4,14,3.99,1.95,11.7,4.47,4.5,0,null,false,0,{"$f":"SUM(W$13:W22)","v":0},0]
[100,50,20,2,null,null,0,"100 x 50 x 20 x 2.0 mm.",4.5369999999999999,3.56,0,1.86,71.400000000000006,16.899999999999999,3.97,1.93,14.3,5.4,4.4000000000000004,0,null,false,0,{"$f":"SUM(W$13:W23)","v":0},0]
[100,50,20,2.2999999999999998,null,null,0,"100 x 50 x 20 x 2.3 mm.",5.1719999999999997,4.0599999999999996,0,1.86,80.7,19,3.95,1.92,16.100000000000001,6.06,4.4000000000000004,0,null,false,0,{"$f":"SUM(W$13:W24)","v":0},0]
[100,50,20,2.8,null,null,0,"100 x 50 x 20 x 2.8 mm.",6.2050000000000001,4.87,0,1.88,99.8,23.2,3.96,1.91,20,7.44,4.3,0,null,false,0,{"$f":"SUM(W$13:W25)","v":0},0]
[100,50,20,3.2,null,null,0,"100 x 50 x 20 x 3.2 mm.",7.0069999999999997,5.5,0,1.86,107,24.5,3.9,1.87,21.3,7.81,4.4000000000000004,0,null,false,0,{"$f":"SUM(W$13:W26)","v":0},0]
[100,50,20,4,null,null,0,"100 x 50 x 20 x 4.0 mm.",8.548,6.71,0,1.86,127,28.7,3.85,1.83,25.4,9.1300000000000008,4.3,0,null,false,0,{"$f":"SUM(W$13:W27)","v":0},0]
[100,50,20,4.5,null,null,0,"100 x 50 x 20 x 4.5 mm.",9.4689999999999994,7.43,0,1.86,139,30.9,3.82,1.81,27.7,9.82,4.3,0,null,false,0,{"$f":"SUM(W$13:W28)","v":0},0]
[120,40,20,3.2,null,null,0,"120 x 40 x 20 x 3.2 mm.",7.0069999999999997,5.5,0,1.32,144,15.3,4.53,1.48,24,5.71,3.4,0,null,false,0,{"$f":"SUM(W$13:W29)","v":0},0]
[120,60,20,2.2999999999999998,null,null,0,"120 x 60 x 20 x 2.3 mm.",6.0919999999999996,4.78,0,2.13,140,31.3,4.79,2.27,23.3,8.1,5.0999999999999996,0,null,false,0,{"$f":"SUM(W$13:W30)","v":0},0]
[120,60,20,3.2,null,null,0,"120 x 60 x 20 x 3.2 mm.",8.2870000000000008,6.51,0,2.12,186,40.9,4.74,2.2200000000000002,31,10.5,4.9000000000000004,0,null,false,0,{"$f":"SUM(W$13:W31)","v":0},0]
[120,60,25,4.5,null,null,0,"120 x 60 x 25 x 4.5 mm.",11.72,9.1999999999999993,0,2.25,252,58,4.63,2.2200000000000002,41.9,15.5,5.3,0,null,false,0,{"$f":"SUM(W$13:W32)","v":0},0]
[125,50,20,2.2999999999999998,null,null,0,"125 x 50 x 20 x 2.3 mm.",5.7469999999999999,4.51,0,1.69,137,20.6,4.88,1.89,21.9,6.22,4.0999999999999996,0,null,false,0,{"$f":"SUM(W$13:W33)","v":0},0]
[125,50,20,3.2,null,null,0,"125 x 50 x 20 x 3.2 mm.",7.8070000000000004,6.13,0,1.68,181,26.6,4.82,1.85,29,8.02,4,0,null,false,0,{"$f":"SUM(W$13:W34)","v":0},0]
[125,50,20,4,null,null,0,"125 x 50 x 20 x 4.0 mm.",9.548,7.5,0,1.68,217,33.1,4.7699999999999996,1.81,34.700000000000003,9.3800000000000008,4,0,null,false,0,{"$f":"SUM(W$13:W35)","v":0},0]
[125,50,20,4.5,null,null,0,"125 x 50 x 20 x 4.5 mm.",10.59,8.32,0,1.68,238,33.5,4.74,1.78,38,10,4,0,null,false,0,{"$f":"SUM(W$13:W36)","v":0},0]
[150,50,20,2.2999999999999998,null,null,0,"150 x 50 x 20 x 2.3 mm.",6.3220000000000001,4.96,0,1.55,210,21.9,5.77,1.86,28,6.33,3.8,0,null,false,0,{"$f":"SUM(W$13:W37)","v":0},0]
[150,50,20,3.2,null,null,0,"150 x 50 x 20 x 3.2 mm.",8.6069999999999993,6.76,0,1.54,280,28.3,5.71,1.81,37.4,8.19,3.8,0,null,false,0,{"$f":"SUM(W$13:W38)","v":0},0]
[150,50,20,4.5,null,null,0,"150 x 50 x 20 x 4.5 mm.",11.72,9.1999999999999993,0,1.54,368,35.700000000000003,5.6,1.75,49,10.5,3.7,0,null,false,0,{"$f":"SUM(W$13:W39)","v":0},0]
[150,65,20,2.2999999999999998,null,null,0,"150 x 65 x 20 x 2.3 mm.",7.0119999999999996,5.5,0,2.12,248,41.1,5.94,2.42,33,9.3699999999999992,5.2,0,null,false,0,{"$f":"SUM(W$13:W40)","v":0},0]
[150,65,20,3.2,null,null,0,"150 x 65 x 20 x 3.2 mm.",9.5670000000000002,7.51,0,2.11,332,53.8,5.89,2.37,44.3,12.2,5.0999999999999996,0,null,false,0,{"$f":"SUM(W$13:W41)","v":0},0]
[150,65,20,4,null,null,0,"150 x 65 x 20 x 4.0 mm.",11.75,9.2200000000000006,0,2.11,401,63.7,5.84,2.33,53.5,14.5,5,0,null,false,0,{"$f":"SUM(W$13:W42)","v":0},0]
[150,75,25,3.2,null,null,0,"150 x 75 x 25 x 3.2 mm.",10.53,8.27,0,2.66,375,83.6,5.97,2.82,50,17.3,6.4,0,null,false,0,{"$f":"SUM(W$13:W43)","v":0},0]
[150,75,25,4,null,null,0,"150 x 75 x 25 x 4.0 mm.",12.95,10.199999999999999,0,2.65,455,99.8,5.93,2.78,60.6,20.6,6.3,0,null,false,0,{"$f":"SUM(W$13:W44)","v":0},0]
[150,75,25,4.5,null,null,0,"150 x 75 x 25 x 4.5 mm.",14.42,11.3,0,2.65,501,109,5.9,2.75,66.900000000000006,22.5,6.3,0,null,false,0,{"$f":"SUM(W$13:W45)","v":0},0]
[200,75,20,3.2,null,null,0,"200 x 75 x 20 x 3.2 mm.",11.81,9.27,0,2.19,716,84.1,7.79,2.67,71.599999999999994,15.8,5.4,0,null,false,0,{"$f":"SUM(W$13:W46)","v":0},0]
[200,75,20,4,null,null,0,"200 x 75 x 20 x 4.0 mm.",14.55,11.4,0,2.19,871,100,7.74,2.62,87.1,18.899999999999999,5.3,0,null,false,0,{"$f":"SUM(W$13:W47)","v":0},0]
[200,75,20,4.5,null,null,0,"200 x 75 x 20 x 4.5 mm.",16.22,12.7,0,2.19,963,109,7.71,2.6,96.3,20.6,5.3,0,null,false,0,{"$f":"SUM(W$13:W48)","v":0},0]
[200,75,25,3.2,null,null,0,"200 x 75 x 25 x 3.2 mm.",12.13,9.52,0,2.33,736,92.3,7.7,2.76,73.599999999999994,17.8,5.7,0,null,false,0,{"$f":"SUM(W$13:W49)","v":0},0]
[200,75,25,4,null,null,0,"200 x 75 x 25 x 4.0 mm.",14.95,11.7,0,2.3199999999999998,895,110,7.74,2.72,89.5,21.3,5.7,0,null,false,0,{"$f":"SUM(W$13:W50)","v":0},0]
[200,75,25,4.5,null,null,0,"200 x 75 x 25 x 4.5 mm.",16.670000000000002,13.1,0,2.3199999999999998,990,121,7.61,2.69,99,23.3,5.6,0,null,false,0,{"$f":"SUM(W$13:W51)","v":0},0]
[250,75,25,4.5,null,null,0,"250 x 75 x 25 x 4.5 mm.",18.920000000000002,14.9,0,2.0699999999999998,1690,129,9.44,2.62,135,23.8,5.0999999999999996,0,null,false,0,{"$f":"SUM(W$13:W52)","v":0},0]

{"sheet":"Cal_Light_Lip_Channel","index":2,"n_rows":57,"n_cols":16,"rows_kept":57,"cut":false,"hidden":false,"merged":[[0,6,0,15],[1,6,1,15],[10,12,10,13],[11,12,11,13],[12,12,12,13],[30,12,30,13],[29,12,29,13],[45,12,45,13],[44,12,44,13],[43,12,43,13],[42,12,42,13],[41,12,41,13],[39,12,39,13],[38,12,38,13],[37,12,37,13],[36,12,36,13],[32,12,32,13],[31,12,31,13],[40,12,40,13],[16,12,16,13],[15,12,15,13],[14,12,14,13],[13,12,13,13],[18,12,18,13],[17,12,17,13],[51,12,51,13],[50,12,50,13],[49,12,49,13],[48,12,48,13],[47,12,47,13],[9,0,9,3],[9,12,9,13],[46,12,46,13],[22,12,22,13],[21,12,21,13],[20,12,20,13],[19,12,19,13],[28,12,28,13],[27,12,27,13],[26,12,26,13],[25,12,25,13],[24,12,24,13],[23,12,23,13],[35,12,35,13],[34,12,34,13],[33,12,33,13]]}
[null,null,null,null,null,null,"รายการคำนวณหาน้ำหนักและพื้นที่ทาสี  เหล็กโครงสร้างรูปพรรณขึ้นรูปเย็น"]
[null,null,null,null,null,null,"เหล็กรูปตัวซี (Light Lip channel steel)"]
[]
[]
[]
[]
[]
[]
[]
["ขนาด",null,null,null,null,null,null,null,"ขนาด","(1)","(2)","น้ำหนักรวม","(3)",null,"พื้นที่ทาสี"]
["H","A","C","t",null,null,null,"ลำดับ","(mm.)","ความยาว","มวลต่อเมตร","(kg)","พื้นที่ผิว (As)",null,"(m2)"]
["(mm.)","(mm.)","(mm.)","(mm.)",null,null,null,null,"H x A x C x t","เหล็ก(m.)","(kg/m.)","(1) x (2)","(m2/m.)",null,"(1) x (3)"]
[60,30,10,1.6,null,null,null,{"$f":"Light_Lip_Channel!G13","v":0},{"$f":"CONCATENATE(A13,\" x \",B13,\" x \",C13,\" x \",FIXED(D13,1), \" mm.\")","v":"60 x 30 x 10 x 1.6 mm."},0,{"$f":"Light_Lip_Channel!J13","v":1.63},{"$f":"TRUNC(J13*K13,3)","v":0},{"$f":"TRUNC(((($A13-$D13)+(2*($B13-$D13))+(2*($C13-$D13))+$D13)*2)/1000,3)","v":0.26700000000000002},null,{"$f":"TRUNC(J13*M13,3)","v":0}]
[60,30,10,2,null,null,null,{"$f":"Light_Lip_Channel!G14","v":0},"60 x 30 x 10 x 2.0 mm.",0,{"$f":"Light_Lip_Channel!J14","v":1.99},{"$f":"TRUNC(J14*K14,3)","v":0},{"$f":"TRUNC(((($A14-$D14)+(2*($B14-$D14))+(2*($C14-$D14))+$D14)*2)/1000,3)","v":0.26400000000000001},null,{"$f":"TRUNC(J14*M14,3)","v":0}]
[60,30,10,2.2999999999999998,null,null,null,{"$f":"Light_Lip_Channel!G15","v":0},"60 x 30 x 10 x 2.3 mm.",0,{"$f":"Light_Lip_Channel!J15","v":2.25},0,0.26100000000000001,null,0]
[70,40,25,1.6,null,null,null,{"$f":"Light_Lip_Channel!G16","v":0},"70 x 40 x 25 x 1.6 mm.",0,{"$f":"Light_Lip_Channel!J16","v":2.38},0,0.38700000000000001,null,0]
[75,35,15,2.2999999999999998,null,null,null,{"$f":"Light_Lip_Channel!G17","v":0},"75 x 35 x 15 x 2.3 mm.",0,{"$f":"Light_Lip_Channel!J17","v":2.89},0,0.33100000000000002,null,0]
[75,45,15,2.2999999999999998,null,null,null,{"$f":"Light_Lip_Channel!G18","v":0},"75 x 45 x 15 x 2.3 mm.",0,{"$f":"Light_Lip_Channel!J18","v":3.25},0,0.371,null,0]
[90,45,20,1.6,null,null,null,{"$f":"Light_Lip_Channel!G19","v":0},"90 x 45 x 20 x 1.6 mm.",0,{"$f":"Light_Lip_Channel!J19","v":2.63},0,0.42699999999999999,null,0]
[90,45,20,2.2999999999999998,null,null,null,{"$f":"Light_Lip_Channel!G20","v":0},"90 x 45 x 20 x 2.3 mm.",0,{"$f":"Light_Lip_Channel!J20","v":3.7},0,0.42099999999999999,null,0]
[90,45,20,3.2,null,null,null,{"$f":"Light_Lip_Channel!G21","v":0},"90 x 45 x 20 x 3.2 mm.",0,{"$f":"Light_Lip_Channel!J21","v":5},0,0.41399999999999998,null,0]
[100,50,20,1.6,null,null,null,{"$f":"Light_Lip_Channel!G22","v":0},"100 x 50 x 20 x 1.6 mm.",0,{"$f":"Light_Lip_Channel!J22","v":2.88},0,0.46700000000000003,null,0]
[100,50,20,2,null,null,null,{"$f":"Light_Lip_Channel!G23","v":0},"100 x 50 x 20 x 2.0 mm.",0,{"$f":"Light_Lip_Channel!J23","v":3.56},0,0.46400000000000002,null,0]
[100,50,20,2.2999999999999998,null,null,null,{"$f":"Light_Lip_Channel!G24","v":0},"100 x 50 x 20 x 2.3 mm.",0,{"$f":"Light_Lip_Channel!J24","v":4.0599999999999996},0,0.46100000000000002,null,0]
[100,50,20,2.8,null,null,null,{"$f":"Light_Lip_Channel!G25","v":0},"100 x 50 x 20 x 2.8 mm.",0,{"$f":"Light_Lip_Channel!J25","v":4.87},0,0.45700000000000002,null,0]
[100,50,20,3.2,null,null,null,{"$f":"Light_Lip_Channel!G26","v":0},"100 x 50 x 20 x 3.2 mm.",0,{"$f":"Light_Lip_Channel!J26","v":5.5},0,0.45400000000000001,null,0]
[100,50,20,4,null,null,null,{"$f":"Light_Lip_Channel!G27","v":0},"100 x 50 x 20 x 4.0 mm.",0,{"$f":"Light_Lip_Channel!J27","v":6.71},0,0.44800000000000001,null,0]
[100,50,20,4.5,null,null,null,{"$f":"Light_Lip_Channel!G28","v":0},"100 x 50 x 20 x 4.5 mm.",0,{"$f":"Light_Lip_Channel!J28","v":7.43},0,0.44400000000000001,null,0]
[120,40,20,3.2,null,null,null,{"$f":"Light_Lip_Channel!G29","v":0},"120 x 40 x 20 x 3.2 mm.",0,{"$f":"Light_Lip_Channel!J29","v":5.5},0,0.45400000000000001,null,0]
[120,60,20,2.2999999999999998,null,null,null,{"$f":"Light_Lip_Channel!G30","v":0},"120 x 60 x 20 x 2.3 mm.",0,{"$f":"Light_Lip_Channel!J30","v":4.78},0,0.54100000000000004,null,0]
[120,60,20,3.2,null,null,null,{"$f":"Light_Lip_Channel!G31","v":0},"120 x 60 x 20 x 3.2 mm.",0,{"$f":"Light_Lip_Channel!J31","v":6.51},0,0.53400000000000003,null,0]
[120,60,25,4.5,null,null,null,{"$f":"Light_Lip_Channel!G32","v":0},"120 x 60 x 25 x 4.5 mm.",0,{"$f":"Light_Lip_Channel!J32","v":9.1999999999999993},0,0.54400000000000004,null,0]
[125,50,20,2.2999999999999998,null,null,null,{"$f":"Light_Lip_Channel!G33","v":0},"125 x 50 x 20 x 2.3 mm.",0,{"$f":"Light_Lip_Channel!J33","v":4.51},0,0.51100000000000001,null,0]
[125,50,20,3.2,null,null,null,{"$f":"Light_Lip_Channel!G34","v":0},"125 x 50 x 20 x 3.2 mm.",0,{"$f":"Light_Lip_Channel!J34","v":6.13},0,0.504,null,0]
[125,50,20,4,null,null,null,{"$f":"Light_Lip_Channel!G35","v":0},"125 x 50 x 20 x 4.0 mm.",0,{"$f":"Light_Lip_Channel!J35","v":7.5},0,0.498,null,0]
[125,50,20,4.5,null,null,null,{"$f":"Light_Lip_Channel!G36","v":0},"125 x 50 x 20 x 4.5 mm.",0,{"$f":"Light_Lip_Channel!J36","v":8.32},0,0.49399999999999999,null,0]
[150,50,20,2.2999999999999998,null,null,null,{"$f":"Light_Lip_Channel!G37","v":0},"150 x 50 x 20 x 2.3 mm.",0,{"$f":"Light_Lip_Channel!J37","v":4.96},0,0.56100000000000005,null,0]
[150,50,20,3.2,null,null,null,{"$f":"Light_Lip_Channel!G38","v":0},"150 x 50 x 20 x 3.2 mm.",0,{"$f":"Light_Lip_Channel!J38","v":6.76},0,0.55400000000000005,null,0]
[150,50,20,4.5,null,null,null,{"$f":"Light_Lip_Channel!G39","v":0},"150 x 50 x 20 x 4.5 mm.",0,{"$f":"Light_Lip_Channel!J39","v":9.1999999999999993},0,0.54400000000000004,null,0]
[150,65,20,2.2999999999999998,null,null,null,{"$f":"Light_Lip_Channel!G40","v":0},"150 x 65 x 20 x 2.3 mm.",0,{"$f":"Light_Lip_Channel!J40","v":5.5},0,0.621,null,0]
[150,65,20,3.2,null,null,null,{"$f":"Light_Lip_Channel!G41","v":0},"150 x 65 x 20 x 3.2 mm.",0,{"$f":"Light_Lip_Channel!J41","v":7.51},0,0.61399999999999999,null,0]
[150,65,20,4,null,null,null,{"$f":"Light_Lip_Channel!G42","v":0},"150 x 65 x 20 x 4.0 mm.",0,{"$f":"Light_Lip_Channel!J42","v":9.2200000000000006},0,0.60799999999999998,null,0]
[150,75,25,3.2,null,null,null,{"$f":"Light_Lip_Channel!G43","v":0},"150 x 75 x 25 x 3.2 mm.",0,{"$f":"Light_Lip_Channel!J43","v":8.27},0,0.67400000000000004,null,0]
[150,75,25,4,null,null,null,{"$f":"Light_Lip_Channel!G44","v":0},"150 x 75 x 25 x 4.0 mm.",0,{"$f":"Light_Lip_Channel!J44","v":10.199999999999999},0,0.66800000000000004,null,0]
[150,75,25,4.5,null,null,null,{"$f":"Light_Lip_Channel!G45","v":0},"150 x 75 x 25 x 4.5 mm.",0,{"$f":"Light_Lip_Channel!J45","v":11.3},0,0.66400000000000003,null,0]
[200,75,20,3.2,null,null,null,{"$f":"Light_Lip_Channel!G46","v":0},"200 x 75 x 20 x 3.2 mm.",0,{"$f":"Light_Lip_Channel!J46","v":9.27},0,0.754,null,0]
[200,75,20,4,null,null,null,{"$f":"Light_Lip_Channel!G47","v":0},"200 x 75 x 20 x 4.0 mm.",0,{"$f":"Light_Lip_Channel!J47","v":11.4},0,0.748,null,0]
[200,75,20,4.5,null,null,null,{"$f":"Light_Lip_Channel!G48","v":0},"200 x 75 x 20 x 4.5 mm.",0,{"$f":"Light_Lip_Channel!J48","v":12.7},0,0.74399999999999999,null,0]
[200,75,20,3.2,null,null,null,{"$f":"Light_Lip_Channel!G49","v":0},"200 x 75 x 20 x 3.2 mm.",0,{"$f":"Light_Lip_Channel!J49","v":9.52},0,0.754,null,0]
[200,75,20,4,null,null,null,{"$f":"Light_Lip_Channel!G50","v":0},"200 x 75 x 20 x 4.0 mm.",0,{"$f":"Light_Lip_Channel!J50","v":11.7},0,0.748,null,0]
[200,75,20,4.5,null,null,null,{"$f":"Light_Lip_Channel!G51","v":0},"200 x 75 x 20 x 4.5 mm.",0,{"$f":"Light_Lip_Channel!J51","v":13.1},0,0.74399999999999999,null,0]
[250,75,25,4.5,null,null,null,{"$f":"Light_Lip_Channel!G52","v":0},"250 x 75 x 25 x 4.5 mm.",0,{"$f":"Light_Lip_Channel!J52","v":14.9},0,0.86399999999999999,null,0]
[null,null,null,null,null,null,null,null,null,null,"น้ำหนักรวม",{"$f":"TRUNC(SUM(L13:L52),2)","v":0},"kg","พื้นที่ทาสีรวม",{"$f":"TRUNC(SUM(O13:O52),2)","v":0},"m2"]
[null,null,null,null,null,null,null,null,null,null,null,{"$f":"TRUNC(L53/1000,2)","v":0},"ton"]
[null,null,null,null,null,null,null,"หมายเหตุ"]
[null,null,null,null,null,null,null,"มวลต่อเมตร อ้างอิงจาก          :          มาตรฐานผลิตภัณฑ์อุตสาหกรรม เหล็กโครงสร้างรูปพรรณขึ้นรูปเย็น มอก. 1228-2549"]
[null,null,null,null,null,null,null,"พื้นที่ผิว(As) คำนวณจากสูตร  :          As = { [ (H - t) + 2(A - t) + 2(C - t) + t ] x 2 } / 1,000"]

{"sheet":"เกี่ยวกับโปรแกรม","index":3,"n_rows":17,"n_cols":13,"rows_kept":17,"cut":false,"hidden":false,"merged":[[2,10,2,11]]}
[]
[]
[null,null,null,null,null,null,null,null,null,null,"เกี่ยวกับโปรแกรม"]
[null,null,null,null,null,null,null,"โปรแกรมนี้พัฒนาขึ้นเพื่อสนับสนุนและอำนวยความสะดวกในการคำนวณหาน้ำหนักและพื้นที่ทาสีเหล็กตัวซี"]
[null,null,null,null,null,null,null,"ซึ่งได้ปรับปรุงเพิ่มเติมจากโปรแกรมตัวเดิมพอสมควร  โดยหน่วยน้ำหนัก(มวลต่อเมตร)ในโปรแกรมนี้อ้างอิง"]
[null,null,null,null,null,null,null,"ตามมาตรฐานผลิตภัณฑ์อุตสาหกรรม  เหล็กโครงสร้างรูปพรรณขึ้นรูปเย็น  มอก. 1228-2549  เพื่อให้เป็นไป"]
[null,null,null,null,null,null,null,"ตามระเบียบเกี่ยวกับพัสดุของหน่วยราชการ  โดยระเบียบกำหนดให้วัสดุที่มีการกำหนดมาตรฐานผลิตภัณฑ์"]
[null,null,null,null,null,null,null,"อุตสาหกรรม  หน่วยงานรัฐต้องกำหนดรายละเอียด คุณลักษณะเฉพาะหรือรายการในการก่อสร้าง  ให้เป็นไป"]
[null,null,null,null,null,null,null,"ตามมาตรฐานผลิตภัณฑ์อุตสาหกรรมด้วย  สำหรับโปรแกรมนี้จะคำนวณน้ำหนักเป็นหน่วยกิโลกรัม(Kg)"]
[null,null,null,null,null,null,null,"และหน่วยน้ำหนักเป็นตัน(Ton)  เพื่อให้ง่ายและตรงตามเกณฑ์การคำนวณค่าแรงงาน  ตามหลักเกณฑ์การ"]
[null,null,null,null,null,null,null,"คำนวณราคากลางของทางราชการ  สำหรับพื้นที่ผิวคำนวณจากเส้นรอบรูปของพื้นที่หน้าตัดเหล็กรูปตัวซี"]
[null,null,null,"      และแปลงหน่วยให้อยู่ในรูปตารางเมตรเพื่อให้สอดคล้องและง่ายต่อการประมาณราคาค่าวัสดุและค่าแรงงาน  งานทาสี  ของกรมบัญชีกลาง ตามหลักเกณฑ์"]
[null,null,null,"      การคำนวณราคากลางงานก่อสร้างของทางราชการอีกด้วย"]
[null,null,null,"                    ผู้จัดทำเป็นเพียงผู้หนึ่งที่ทำงานในหน่วยงานภาครัฐสังกัดองค์กรปกครองส่วนท้องถิ่น  จึงอาจมุ่งเน้นการใช้งานสำหรับหน่วยงานภาครัฐเป็นหลัก"]
[null,null,null,"      แต่หน่วยงานอื่นหรือภาคเอกชนก็สามารถนำไปปรับใช้ในการทำงานได้ครับ  อนึ่งหากแม้นโปรแกรมที่จัดทำนี้จะเป็นประโยชน์อยู่บ้างผมขอมอบ"]
[null,null,null,"      คุณความดีนั้นแด่คุณบิดา  คุณมารดา  ครู  อาจารย์  ตลอดจนผู้มีพระคุณทุกท่านครับ"]
[null,null,null,null,null,null,null,null,null,null,null,null,"ธราเทพ  ทองเบ้า"]

{"sheet":"คำแนะนำ","index":4,"n_rows":18,"n_cols":11,"rows_kept":18,"cut":false,"hidden":false,"merged":[[2,2,2,14]]}
[]
[]
[null,null,"ข้อแนะนำการใช้งาน"]
[null,null,null,"หน้าต่างเลือกขนาดเหล็ก"]
[null,null,null,"-","คลิ๊กเลือกขนาดเหล็กที่ต้องการคำนวณให้มีเครื่องหมายถูกในช่อง         แล้วกดปุ่ม      "]
[null,null,null,"เพื่อทำการประมวลผล(เพื่อลดข้อผิดพลาดจากการคำนวณควรล้างการเลือกเหล็กก่อนทุกครั้ง) "]
[null,null,null,"-","หากต้องการล้างการเลือกขนาดเหล็กที่เลือกไว้ทั้งหมดให้กดปุ่ม    "]
[null,null,null,"-","หากต้องการพิมพ์ตารางเหล็กให้กดปุ่ม    ",null,null,null,null,null,"ซึ่งจะพิมพ์ผลลัพธ์ออกทางเครื่องพิมพ์"]
[null,null,null,"ซึ่งเป็น default ของ computer"]
[null,null,null,"หน้าต่างผลการคำนวณ"]
[null,null,null,"-","เมื่อทำการประมวลผลแล้วเสร็จจะเข้าสู่หน้าต่างการคำนวณให้กรอกความยาวเหล็กเป็นตัวเลขที่ต้องการคำนวณ"]
[null,null,null,"ในช่องสี",null,null,"โปรแกรมก็จะคำนวณน้ำหนักและพื้นที่ทาสีให้ครับ"]
[null,null,null,"-","เมื่อต้องการเลือกขนาดเหล็กใหม่หรือกลับไปเลือกขนาดเหล็กให้กดปุ่ม"]
[null,null,null,"-","หากต้องการพิมพ์ตารางเหล็กให้กดปุ่ม    ",null,null,null,null,null,"ซึ่งจะพิมพ์ผลลัพธ์ออกทางเครื่องพิมพ์"]
[null,null,null,"ซึ่งเป็น default ของ computer"]
[null,null,null,"การออกจากโปรแกรม"]
[null,null,null,"-","เพื่อคืนค่ารูปแบบพื้นฐานของโปรแกรม Excel ก่อนใช้โปรแกรมการออกจากโปรแกรมนี้ให้กดปุ่ม"]
[null,null,null,null,null,null,"เท่านั้นนะครับ"]